BEGIN:VCALENDAR
VERSION:2.0
PRODID:-//Sabre//Sabre VObject 4.5.8//EN
CALSCALE:GREGORIAN
BEGIN:VEVENT
UID:criticalmass-one-heidenheim-1480082400
DTSTAMP:20260423T203831Z
SUMMARY:Critical Mass Heidenheim 25.11.2016
DTSTART;TZID=Europe/Berlin:20161125T150000
DTEND;TZID=Europe/Berlin:20161125T170000
LOCATION:Rathaus
GEO:48.676743;10.152788
URL;VALUE=URI:https://criticalmass.in/heidenheim/2016-11-25
END:VEVENT
END:VCALENDAR
