BEGIN:VCALENDAR
VERSION:2.0
PRODID:-//Sabre//Sabre VObject 4.5.8//EN
CALSCALE:GREGORIAN
BEGIN:VEVENT
UID:criticalmass-one-heidenheim-1469808000
DTSTAMP:20260425T152337Z
SUMMARY:Critical Mass Heidenheim 29.07.2016
DTSTART;TZID=Europe/Berlin:20160729T180000
DTEND;TZID=Europe/Berlin:20160729T200000
LOCATION:Rathaus
GEO:48.676743;10.152788
URL;VALUE=URI:https://criticalmass.in/heidenheim/2016-07-29
END:VEVENT
END:VCALENDAR
