BEGIN:VCALENDAR
VERSION:2.0
PRODID:-//Sabre//Sabre VObject 4.5.8//EN
CALSCALE:GREGORIAN
BEGIN:VEVENT
UID:criticalmass-one-heidenheim-1466784000
DTSTAMP:20260422T120732Z
SUMMARY:Critical Mass Heidenheim 24.06.2016
DTSTART;TZID=Europe/Berlin:20160624T180000
DTEND;TZID=Europe/Berlin:20160624T200000
LOCATION:Rathaus
GEO:48.676743;10.152788
URL;VALUE=URI:https://criticalmass.in/heidenheim/2016-06-24
END:VEVENT
END:VCALENDAR
