BEGIN:VCALENDAR
VERSION:2.0
PRODID:-//Sabre//Sabre VObject 4.5.8//EN
CALSCALE:GREGORIAN
BEGIN:VEVENT
UID:criticalmass-one-heidenheim-1438358400
DTSTAMP:20260425T181704Z
SUMMARY:Critical Mass Heidenheim 31.07.2015
DTSTART;TZID=Europe/Berlin:20150731T180000
DTEND;TZID=Europe/Berlin:20150731T200000
LOCATION:Rathaus
GEO:48.676743;10.152788
URL;VALUE=URI:https://criticalmass.in/heidenheim/2015-07-31
END:VEVENT
END:VCALENDAR
