BEGIN:VCALENDAR
VERSION:2.0
PRODID:-//Sabre//Sabre VObject 4.5.8//EN
CALSCALE:GREGORIAN
BEGIN:VEVENT
UID:criticalmass-one-heidelberg-1664110800
DTSTAMP:20260422T221156Z
SUMMARY:Kidical Mass Heidelberg 25.09.2022
DTSTART;TZID=Europe/Berlin:20220925T150000
DTEND;TZID=Europe/Berlin:20220925T170000
LOCATION:Schwanenteichanlage Nähe Stadtbücherei
URL;VALUE=URI:https://criticalmass.in/heidelberg/kidical-mass-heidelberg-se
 ptember-2022
END:VEVENT
END:VCALENDAR
