BEGIN:VCALENDAR
VERSION:2.0
PRODID:-//Sabre//Sabre VObject 4.5.8//EN
CALSCALE:GREGORIAN
BEGIN:VEVENT
UID:criticalmass-one-heidelberg-1729872000
DTSTAMP:20260424T220557Z
SUMMARY:Critical Mass Heidelberg 25.10.2024
DTSTART;TZID=Europe/Berlin:20241025T180000
DTEND;TZID=Europe/Berlin:20241025T200000
LOCATION:Universitätsplatz\, Heidelberg (am Brunnen)
URL;VALUE=URI:https://criticalmass.in/heidelberg/2024-10-25
END:VEVENT
END:VCALENDAR
