BEGIN:VCALENDAR
VERSION:2.0
PRODID:-//Sabre//Sabre VObject 4.5.8//EN
CALSCALE:GREGORIAN
BEGIN:VEVENT
UID:criticalmass-one-heidelberg-1700845200
DTSTAMP:20260424T192702Z
SUMMARY:Critical Mass Heidelberg 24.11.2023
DTSTART;TZID=Europe/Berlin:20231124T180000
DTEND;TZID=Europe/Berlin:20231124T200000
LOCATION:Universitätsplatz\, Heidelberg (am Brunnen)
URL;VALUE=URI:https://criticalmass.in/heidelberg/2023-11-24
END:VEVENT
END:VCALENDAR
