BEGIN:VCALENDAR
VERSION:2.0
PRODID:-//Sabre//Sabre VObject 4.5.8//EN
CALSCALE:GREGORIAN
BEGIN:VEVENT
UID:criticalmass-one-heidelberg-1696003200
DTSTAMP:20260422T202436Z
SUMMARY:Critical Mass Heidelberg 29.09.2023
DTSTART;TZID=Europe/Berlin:20230929T180000
DTEND;TZID=Europe/Berlin:20230929T200000
LOCATION:Universitätsplatz\, Heidelberg (am Brunnen)
URL;VALUE=URI:https://criticalmass.in/heidelberg/2023-09-29
END:VEVENT
END:VCALENDAR
