BEGIN:VCALENDAR
VERSION:2.0
PRODID:-//Sabre//Sabre VObject 4.5.8//EN
CALSCALE:GREGORIAN
BEGIN:VEVENT
UID:criticalmass-one-heidelberg-1656086400
DTSTAMP:20260424T092318Z
SUMMARY:Critical Mass Heidelberg 24.06.2022
DTSTART;TZID=Europe/Berlin:20220624T180000
DTEND;TZID=Europe/Berlin:20220624T200000
LOCATION:Universitätsplatz\, Heidelberg (am Brunnen)
URL;VALUE=URI:https://criticalmass.in/heidelberg/2022-06-24
END:VEVENT
END:VCALENDAR
