BEGIN:VCALENDAR
VERSION:2.0
PRODID:-//Sabre//Sabre VObject 4.5.8//EN
CALSCALE:GREGORIAN
BEGIN:VEVENT
UID:criticalmass-one-heidelberg-1635523200
DTSTAMP:20260422T082631Z
SUMMARY:Critical Mass Heidelberg 29.10.2021
DTSTART;TZID=Europe/Berlin:20211029T180000
DTEND;TZID=Europe/Berlin:20211029T200000
LOCATION:Universitätsplatz\, Heidelberg (am Brunnen)
URL;VALUE=URI:https://criticalmass.in/heidelberg/2021-10-29
END:VEVENT
END:VCALENDAR
