BEGIN:VCALENDAR
VERSION:2.0
PRODID:-//Sabre//Sabre VObject 4.5.8//EN
CALSCALE:GREGORIAN
BEGIN:VEVENT
UID:criticalmass-one-heidelberg-1627660800
DTSTAMP:20260425T232307Z
SUMMARY:Critical Mass Heidelberg 30.07.2021
DTSTART;TZID=Europe/Berlin:20210730T180000
DTEND;TZID=Europe/Berlin:20210730T200000
LOCATION:Universitätsplatz\, Heidelberg (am Brunnen)
URL;VALUE=URI:https://criticalmass.in/heidelberg/2021-07-30
END:VEVENT
END:VCALENDAR
