BEGIN:VCALENDAR
VERSION:2.0
PRODID:-//Sabre//Sabre VObject 4.5.8//EN
CALSCALE:GREGORIAN
BEGIN:VEVENT
UID:criticalmass-one-heidelberg-1622217600
DTSTAMP:20260422T204352Z
SUMMARY:Critical Mass Heidelberg 28.05.2021
DTSTART;TZID=Europe/Berlin:20210528T180000
DTEND;TZID=Europe/Berlin:20210528T200000
LOCATION:Universitätsplatz\, Heidelberg (am Brunnen)
URL;VALUE=URI:https://criticalmass.in/heidelberg/2021-05-28
END:VEVENT
END:VCALENDAR
