BEGIN:VCALENDAR
VERSION:2.0
PRODID:-//Sabre//Sabre VObject 4.5.8//EN
CALSCALE:GREGORIAN
BEGIN:VEVENT
UID:criticalmass-one-heidelberg-1601049600
DTSTAMP:20260422T151045Z
SUMMARY:Critical Mass Heidelberg 25.09.2020
DESCRIPTION:Universitätsplatz\, Heidelberg (am Brunnen)
DTSTART;TZID=Europe/Berlin:20200925T180000
DTEND;TZID=Europe/Berlin:20200925T200000
LOCATION:Universitätsplatz\, Heidelberg (am Brunnen)
URL;VALUE=URI:https://criticalmass.in/heidelberg/2020-09-25
END:VEVENT
END:VCALENDAR
