BEGIN:VCALENDAR
VERSION:2.0
PRODID:-//Sabre//Sabre VObject 4.5.8//EN
CALSCALE:GREGORIAN
BEGIN:VEVENT
UID:criticalmass-one-heidelberg-1553878800
DTSTAMP:20260423T063813Z
SUMMARY:Critical Mass Heidelberg - 2019 März
DESCRIPTION:Herrliche\, gar nicht enden wollende Tour bei super Wetter
DTSTART;TZID=Europe/Berlin:20190329T180000
DTEND;TZID=Europe/Berlin:20190329T200000
LOCATION:Uni Platz Heidelberg am Brunnen
URL;VALUE=URI:https://criticalmass.in/heidelberg/2019-03-29
END:VEVENT
END:VCALENDAR
