BEGIN:VCALENDAR
VERSION:2.0
PRODID:-//Sabre//Sabre VObject 4.5.8//EN
CALSCALE:GREGORIAN
BEGIN:VEVENT
UID:criticalmass-one-hattingen-1664024400
DTSTAMP:20260425T035855Z
SUMMARY:Kidical Mass Hattingen 24.09.2022
DTSTART;TZID=Europe/Berlin:20220924T150000
DTEND;TZID=Europe/Berlin:20220924T170000
LOCATION:Fahrrad Hecken
URL;VALUE=URI:https://criticalmass.in/hattingen/kidical-mass-hattingen-sept
 ember-2022
END:VEVENT
END:VCALENDAR
