BEGIN:VCALENDAR
VERSION:2.0
PRODID:-//Sabre//Sabre VObject 4.5.8//EN
CALSCALE:GREGORIAN
BEGIN:VEVENT
UID:criticalmass-one-hattingen-1714827600
DTSTAMP:20260423T024752Z
SUMMARY:Kidical Mass Hattingen 04.05.2024
DTSTART;TZID=Europe/Berlin:20240504T150000
DTEND;TZID=Europe/Berlin:20240504T170000
LOCATION:Hattingen Rathaus Hattingen
GEO:51.400975;7.184565
URL;VALUE=URI:https://criticalmass.in/hattingen/kidical-mass-hattingen-mai-
 2024
END:VEVENT
END:VCALENDAR
