BEGIN:VCALENDAR
VERSION:2.0
PRODID:-//Sabre//Sabre VObject 4.5.8//EN
CALSCALE:GREGORIAN
BEGIN:VEVENT
UID:criticalmass-one-hattingen-1683378000
DTSTAMP:20260423T091819Z
SUMMARY:Kidical Mass Hattingen 06.05.2023
DTSTART;TZID=Europe/Berlin:20230506T150000
DTEND;TZID=Europe/Berlin:20230506T170000
LOCATION:Rathaus hattingen
GEO:51.401079;7.185897
URL;VALUE=URI:https://criticalmass.in/hattingen/kidical-mass-hattingen-mai-
 2023
END:VEVENT
END:VCALENDAR
