BEGIN:VCALENDAR
VERSION:2.0
PRODID:-//Sabre//Sabre VObject 4.5.8//EN
CALSCALE:GREGORIAN
BEGIN:VEVENT
UID:criticalmass-one-harburg-1731088800
DTSTAMP:20260424T191618Z
SUMMARY:Hamburg-Harburg 08.11.2024
DTSTART;TZID=Europe/Berlin:20241108T190000
DTEND;TZID=Europe/Berlin:20241108T210000
LOCATION:Herbert-Wehner-Platz
URL;VALUE=URI:https://criticalmass.in/harburg/2024-11-08
END:VEVENT
END:VCALENDAR
