BEGIN:VCALENDAR
VERSION:2.0
PRODID:-//Sabre//Sabre VObject 4.5.8//EN
CALSCALE:GREGORIAN
BEGIN:VEVENT
UID:criticalmass-one-harburg-1594400400
DTSTAMP:20260421T143555Z
SUMMARY:Harburg 10.07.2020
DTSTART;TZID=Europe/Berlin:20200710T190000
DTEND;TZID=Europe/Berlin:20200710T210000
LOCATION:Herbert-Wehner-Platz
GEO:53.460958;9.979008
URL;VALUE=URI:https://criticalmass.in/harburg/2020-07-10
END:VEVENT
END:VCALENDAR
