BEGIN:VCALENDAR
VERSION:2.0
PRODID:-//Sabre//Sabre VObject 4.5.8//EN
CALSCALE:GREGORIAN
BEGIN:VEVENT
UID:criticalmass-one-harburg-1588957200
DTSTAMP:20260426T030438Z
SUMMARY:Harburg 08.05.2020
DTSTART;TZID=Europe/Berlin:20200508T190000
DTEND;TZID=Europe/Berlin:20200508T210000
LOCATION:Herbert-Wehner-Platz
GEO:53.460958;9.979008
URL;VALUE=URI:https://criticalmass.in/harburg/2020-05-08
END:VEVENT
END:VCALENDAR
