BEGIN:VCALENDAR
VERSION:2.0
PRODID:-//Sabre//Sabre VObject 4.5.8//EN
CALSCALE:GREGORIAN
BEGIN:VEVENT
UID:criticalmass-one-harburg-1576260000
DTSTAMP:20260425T001832Z
SUMMARY:Harburg 13.12.2019
DTSTART;TZID=Europe/Berlin:20191213T190000
DTEND;TZID=Europe/Berlin:20191213T210000
LOCATION:Herbert-Wehner-Platz
GEO:53.460958;9.979008
URL;VALUE=URI:https://criticalmass.in/harburg/2019-12-13
END:VEVENT
END:VCALENDAR
