BEGIN:VCALENDAR
VERSION:2.0
PRODID:-//Sabre//Sabre VObject 4.5.8//EN
CALSCALE:GREGORIAN
BEGIN:VEVENT
UID:criticalmass-one-harburg-1552068000
DTSTAMP:20260422T204158Z
SUMMARY:Critical Mass Harburg 08.03.2019
DTSTART;TZID=Europe/Berlin:20190308T190000
DTEND;TZID=Europe/Berlin:20190308T210000
LOCATION:Herbert-Wehner-Platz
GEO:53.460958;9.979008
URL;VALUE=URI:https://criticalmass.in/harburg/2019-03-08
END:VEVENT
END:VCALENDAR
