BEGIN:VCALENDAR
VERSION:2.0
PRODID:-//Sabre//Sabre VObject 4.5.8//EN
CALSCALE:GREGORIAN
BEGIN:VEVENT
UID:criticalmass-one-harburg-1544810400
DTSTAMP:20260423T050909Z
SUMMARY:Critical Mass Harburg 14.12.2018
DTSTART;TZID=Europe/Berlin:20181214T190000
DTEND;TZID=Europe/Berlin:20181214T210000
URL;VALUE=URI:https://criticalmass.in/harburg/2018-12-14
END:VEVENT
END:VCALENDAR
