BEGIN:VCALENDAR
VERSION:2.0
PRODID:-//Sabre//Sabre VObject 4.5.8//EN
CALSCALE:GREGORIAN
BEGIN:VEVENT
UID:criticalmass-one-harburg-1518199200
DTSTAMP:20260424T135056Z
SUMMARY:Critical Mass Harburg 09.02.2018
DTSTART;TZID=Europe/Berlin:20180209T190000
DTEND;TZID=Europe/Berlin:20180209T210000
URL;VALUE=URI:https://criticalmass.in/harburg/2018-02-09
END:VEVENT
END:VCALENDAR
