BEGIN:VCALENDAR
VERSION:2.0
PRODID:-//Sabre//Sabre VObject 4.5.8//EN
CALSCALE:GREGORIAN
BEGIN:VEVENT
UID:criticalmass-one-harburg-1484326800
DTSTAMP:20260421T130603Z
SUMMARY:Critical Mass Harburg 13.01.2017
DESCRIPTION:Diese Tour wurde witterungsbedingt abgesagt.
DTSTART;TZID=Europe/Berlin:20170113T180000
DTEND;TZID=Europe/Berlin:20170113T200000
URL;VALUE=URI:https://criticalmass.in/harburg/2017-01-13
END:VEVENT
END:VCALENDAR
