BEGIN:VCALENDAR
VERSION:2.0
PRODID:-//Sabre//Sabre VObject 4.5.8//EN
CALSCALE:GREGORIAN
BEGIN:VEVENT
UID:criticalmass-one-harburg-1476466200
DTSTAMP:20260424T033849Z
SUMMARY:26. CriticalMass Hamburg-Harburg
DTSTART;TZID=Europe/Berlin:20161014T193000
DTEND;TZID=Europe/Berlin:20161014T213000
LOCATION:Herbert-Wehner-Platz
GEO:53.460242;9.983375
URL;VALUE=URI:https://criticalmass.in/harburg/2016-10-14
END:VEVENT
END:VCALENDAR
