BEGIN:VCALENDAR
VERSION:2.0
PRODID:-//Sabre//Sabre VObject 4.5.8//EN
CALSCALE:GREGORIAN
BEGIN:VEVENT
UID:criticalmass-one-harburg-1460134800
DTSTAMP:20260422T145356Z
SUMMARY:Critical Mass Harburg 08.04.2016
DTSTART;TZID=Europe/Berlin:20160408T190000
DTEND;TZID=Europe/Berlin:20160408T210000
URL;VALUE=URI:https://criticalmass.in/harburg/2016-04-08
END:VEVENT
END:VCALENDAR
