BEGIN:VCALENDAR
VERSION:2.0
PRODID:-//Sabre//Sabre VObject 4.5.8//EN
CALSCALE:GREGORIAN
BEGIN:VEVENT
UID:criticalmass-one-harburg-1455300000
DTSTAMP:20260424T200250Z
SUMMARY:18. #CriticalMass Hamburg-Harburg
DESCRIPTION:Treffpunkt bestimmen die zukünftigen Teilnehmer. Hier geht's z
 ur Abstimmung: [https://criticalmassharburg.wordpress.com/2016/02/05/18-cr
 itical-mass-harburg-am-freitag-den-12-02-2016/]\n\nWir behindern nicht den
  Verkehr\, wir sind Teil des Verkehrs!\n\nHandelt verantwortungsvoll!\nFah
 rt nicht auf der Gegenfahrbahn!\nGlasgefäße vermeiden\, Scherben sind do
 of!\nAutofahrer sind nicht unsere Feinde – ladet sie ein das nächste ma
 l dabeizusein!\nBleibt zusammen\, Lücken schließen!\nDenkt an eine verke
 hrssichere Ausstattung der Fahrräder.\nSeid vernünftig!!
DTSTART;TZID=Europe/Berlin:20160212T190000
DTEND;TZID=Europe/Berlin:20160212T210000
URL;VALUE=URI:https://criticalmass.in/harburg/2016-02-12
END:VEVENT
END:VCALENDAR
