BEGIN:VCALENDAR
VERSION:2.0
PRODID:-//Sabre//Sabre VObject 4.5.8//EN
CALSCALE:GREGORIAN
BEGIN:VEVENT
UID:criticalmass-one-harburg-1447437600
DTSTAMP:20260423T111933Z
SUMMARY:Critical Mass Harburg 13.11.2015
DTSTART;TZID=Europe/Berlin:20151113T190000
DTEND;TZID=Europe/Berlin:20151113T210000
URL;VALUE=URI:https://criticalmass.in/harburg/2015-11-13
END:VEVENT
END:VCALENDAR
