BEGIN:VCALENDAR
VERSION:2.0
PRODID:-//Sabre//Sabre VObject 4.5.8//EN
CALSCALE:GREGORIAN
BEGIN:VEVENT
UID:criticalmass-one-harburg-1426269600
DTSTAMP:20260422T080320Z
SUMMARY:Critical Mass Harburg 13.03.2015
DTSTART;TZID=Europe/Berlin:20150313T190000
DTEND;TZID=Europe/Berlin:20150313T210000
URL;VALUE=URI:https://criticalmass.in/harburg/2015-03-13
END:VEVENT
END:VCALENDAR
