BEGIN:VCALENDAR
VERSION:2.0
PRODID:-//Sabre//Sabre VObject 4.5.8//EN
CALSCALE:GREGORIAN
BEGIN:VEVENT
UID:criticalmass-one-harburg-1412960400
DTSTAMP:20260424T105903Z
SUMMARY:Critical Mass Harburg 10.10.2014
DTSTART;TZID=Europe/Berlin:20141010T190000
DTEND;TZID=Europe/Berlin:20141010T210000
LOCATION:Museumsplatz
GEO:53.458793;9.977510
URL;VALUE=URI:https://criticalmass.in/harburg/2014-10-10
END:VEVENT
END:VCALENDAR
