BEGIN:VCALENDAR
VERSION:2.0
PRODID:-//Sabre//Sabre VObject 4.5.8//EN
CALSCALE:GREGORIAN
BEGIN:VEVENT
UID:criticalmass-one-harburg-1408114800
DTSTAMP:20260425T002018Z
SUMMARY:Critical Mass Harburg 15.08.2014
DTSTART;TZID=Europe/Berlin:20140815T170000
DTEND;TZID=Europe/Berlin:20140815T190000
LOCATION:Harburg-Rathaus
GEO:53.460556;9.981111
URL;VALUE=URI:https://criticalmass.in/harburg/2014-08-15
END:VEVENT
END:VCALENDAR
