BEGIN:VCALENDAR
VERSION:2.0
PRODID:-//Sabre//Sabre VObject 4.5.8//EN
CALSCALE:GREGORIAN
BEGIN:VEVENT
UID:criticalmass-one-harburg-1392400800
DTSTAMP:20260424T121538Z
SUMMARY:Critical Mass Harburg 14.02.2014
DTSTART;TZID=Europe/Berlin:20140214T190000
DTEND;TZID=Europe/Berlin:20140214T210000
URL;VALUE=URI:https://criticalmass.in/harburg/2014-02-14
END:VEVENT
END:VCALENDAR
