BEGIN:VCALENDAR
VERSION:2.0
PRODID:-//Sabre//Sabre VObject 4.5.8//EN
CALSCALE:GREGORIAN
BEGIN:VEVENT
UID:criticalmass-one-hankensbuttel-1550853000
DTSTAMP:20260422T150635Z
SUMMARY:Critical Mass Hankensbüttel
DTSTART;TZID=Europe/Berlin:20190222T173000
DTEND;TZID=Europe/Berlin:20190222T193000
LOCATION:Kirche
URL;VALUE=URI:https://criticalmass.in/hankensbuttel/2019-02-22
END:VEVENT
END:VCALENDAR
