BEGIN:VCALENDAR
VERSION:2.0
PRODID:-//Sabre//Sabre VObject 4.5.8//EN
CALSCALE:GREGORIAN
BEGIN:VEVENT
UID:criticalmass-one-hamm-westf-1748091600
DTSTAMP:20260423T154901Z
SUMMARY:Kidical Mass Hamm 24.05.2025
DTSTART;TZID=Europe/Berlin:20250524T150000
DTEND;TZID=Europe/Berlin:20250524T170000
LOCATION:Hamm Marktplatz
GEO:51.680983;7.819699
URL;VALUE=URI:https://criticalmass.in/hamm-westf/kidical-mass-hamm-westf-ma
 i-2025
END:VEVENT
END:VCALENDAR
