BEGIN:VCALENDAR
VERSION:2.0
PRODID:-//Sabre//Sabre VObject 4.5.8//EN
CALSCALE:GREGORIAN
BEGIN:VEVENT
UID:criticalmass-one-hamm-westf-1745600400
DTSTAMP:20260425T164731Z
SUMMARY:Critical Mass Hamm 25.04.2025
DTSTART;TZID=Europe/Berlin:20250425T190000
DTEND;TZID=Europe/Berlin:20250425T210000
LOCATION:Hamm\, Willy-Brandt-Platz (Hbf.)
URL;VALUE=URI:https://criticalmass.in/hamm-westf/2025-04-25
END:VEVENT
END:VCALENDAR
