BEGIN:VCALENDAR
VERSION:2.0
PRODID:-//Sabre//Sabre VObject 4.5.8//EN
CALSCALE:GREGORIAN
BEGIN:VEVENT
UID:criticalmass-one-hamm-westf-1719594000
DTSTAMP:20260424T092207Z
SUMMARY:Critical Mass Hamm 28.06.2024
DTSTART;TZID=Europe/Berlin:20240628T190000
DTEND;TZID=Europe/Berlin:20240628T210000
LOCATION:Hamm\, Willy-Brandt-Platz (Hbf.)
URL;VALUE=URI:https://criticalmass.in/hamm-westf/2024-06-28
END:VEVENT
END:VCALENDAR
