BEGIN:VCALENDAR
VERSION:2.0
PRODID:-//Sabre//Sabre VObject 4.5.8//EN
CALSCALE:GREGORIAN
BEGIN:VEVENT
UID:criticalmass-one-hamm-westf-1708711200
DTSTAMP:20260423T234355Z
SUMMARY:Critical Mass Hamm 23.02.2024 - Gegen das Vergessen und für die Me
 nschlichkeit
DESCRIPTION:Lasst uns dieses Mal für die Menschlichkeit und gegen das Verg
 essen unterwegs sein ! Antisemitismus\, Rassismus\, und Ausgrenzung jeglic
 her Art dürfen bei uns keinen Platz haben !
DTSTART;TZID=Europe/Berlin:20240223T190000
DTEND;TZID=Europe/Berlin:20240223T210000
LOCATION:Hamm\, Willy-Brandt-Platz (Hbf.)
URL;VALUE=URI:https://criticalmass.in/hamm-westf/2024-02-23
END:VEVENT
END:VCALENDAR
