BEGIN:VCALENDAR
VERSION:2.0
PRODID:-//Sabre//Sabre VObject 4.5.8//EN
CALSCALE:GREGORIAN
BEGIN:VEVENT
UID:criticalmass-one-hamm-westf-1637949600
DTSTAMP:20260423T171616Z
SUMMARY:Critical Mass Hamm 26.11.2021
DTSTART;TZID=Europe/Berlin:20211126T190000
DTEND;TZID=Europe/Berlin:20211126T210000
LOCATION:Hamm\, Willy-Brandt-Platz (Hbf.)
URL;VALUE=URI:https://criticalmass.in/hamm-westf/2021-11-26
END:VEVENT
END:VCALENDAR
