BEGIN:VCALENDAR
VERSION:2.0
PRODID:-//Sabre//Sabre VObject 4.5.8//EN
CALSCALE:GREGORIAN
BEGIN:VEVENT
UID:criticalmass-one-hamm-westf-1604080800
DTSTAMP:20260423T232852Z
SUMMARY:Critical Mass Hamm 30.10.2020
DTSTART;TZID=Europe/Berlin:20201030T190000
DTEND;TZID=Europe/Berlin:20201030T210000
LOCATION:Hamm\, Willy-Brandt-Platz (Hbf.)
URL;VALUE=URI:https://criticalmass.in/hamm-westf/2020-10-30
END:VEVENT
END:VCALENDAR
