BEGIN:VCALENDAR
VERSION:2.0
PRODID:-//Sabre//Sabre VObject 4.5.8//EN
CALSCALE:GREGORIAN
BEGIN:VEVENT
UID:criticalmass-one-hamm-westf-1577469600
DTSTAMP:20260424T022124Z
SUMMARY:Critical Mass Hamm (Westf.)
DESCRIPTION:https://www.klimabuendnis-hamm.de/akteure/guv/gruppen/cm_hamm/
DTSTART;TZID=Europe/Berlin:20191227T190000
DTEND;TZID=Europe/Berlin:20191227T210000
LOCATION:Willy-Brandt-Platz vor dem Hbf Hamm (Westf.)
GEO:51.678330;7.809906
URL;VALUE=URI:https://criticalmass.in/hamm-westf/2019-12-27
END:VEVENT
END:VCALENDAR
