BEGIN:VCALENDAR
VERSION:2.0
PRODID:-//Sabre//Sabre VObject 4.5.8//EN
CALSCALE:GREGORIAN
BEGIN:VEVENT
UID:criticalmass-one-hamburg-1664557200
DTSTAMP:20260425T232307Z
SUMMARY:Critical Mass Hamburg 30.09.2022
DTSTART;TZID=Europe/Berlin:20220930T190000
DTEND;TZID=Europe/Berlin:20220930T210000
LOCATION:Moorweide
GEO:53.561712;9.991271
URL;VALUE=URI:https://criticalmass.in/hamburg/2022-09-30
END:VEVENT
END:VCALENDAR
