BEGIN:VCALENDAR
VERSION:2.0
PRODID:-//Sabre//Sabre VObject 4.5.8//EN
CALSCALE:GREGORIAN
BEGIN:VEVENT
UID:criticalmass-one-hamburg-1635526800
DTSTAMP:20260425T033904Z
SUMMARY:Critical Mass Hamburg 29.10.2021
DESCRIPTION:Aus traurigem Anlass werden wir eine Gedenkminute für einen he
 ute getöteten Fahrradfahrer auf der Kreuzung Habichtstr. u. Bramfelder St
 r. einlegen. \nFahrt vorsichtig und seid Beleuchtet.
DTSTART;TZID=Europe/Berlin:20211029T190000
DTEND;TZID=Europe/Berlin:20211029T210000
LOCATION:Moorweide
GEO:53.561826;9.991293
URL;VALUE=URI:https://criticalmass.in/hamburg/2021-10-29
END:VEVENT
END:VCALENDAR
