BEGIN:VCALENDAR
VERSION:2.0
PRODID:-//Sabre//Sabre VObject 4.5.8//EN
CALSCALE:GREGORIAN
BEGIN:VEVENT
UID:criticalmass-one-hamburg-1417197600
DTSTAMP:20260425T181148Z
SUMMARY:HELLER DENN JE
DESCRIPTION:Wir behindern nicht den Verkehr\, wir sind Teil des Verkehrs!\n
 We're not blocking traffic\, we ARE traffic!\n\nLast Friday of every month
 . Share it\, like it\, tell your friends.
DTSTART;TZID=Europe/Berlin:20141128T190000
DTEND;TZID=Europe/Berlin:20141128T210000
LOCATION:Speersort
GEO:53.549436;9.997280
URL;VALUE=URI:https://criticalmass.in/hamburg/2014-11-28
END:VEVENT
END:VCALENDAR
