BEGIN:VCALENDAR
VERSION:2.0
PRODID:-//Sabre//Sabre VObject 4.5.8//EN
CALSCALE:GREGORIAN
BEGIN:VEVENT
UID:criticalmass-one-hamburg-1393610400
DTSTAMP:20260425T032855Z
SUMMARY:Critical Mass Hamburg 28.02.2014
DTSTART;TZID=Europe/Berlin:20140228T190000
DTEND;TZID=Europe/Berlin:20140228T210000
LOCATION:Audimax
GEO:53.566414;9.984748
URL;VALUE=URI:https://criticalmass.in/hamburg/2014-02-28
END:VEVENT
END:VCALENDAR
