BEGIN:VCALENDAR
VERSION:2.0
PRODID:-//Sabre//Sabre VObject 4.5.8//EN
CALSCALE:GREGORIAN
BEGIN:VEVENT
UID:criticalmass-one-hamburg-1319821200
DTSTAMP:20260423T051825Z
SUMMARY:Critical Mass – Gruselig Spezial
DTSTART;TZID=Europe/Berlin:20111028T190000
DTEND;TZID=Europe/Berlin:20111028T210000
LOCATION:Stintfang
GEO:53.545841;9.971809
URL;VALUE=URI:https://criticalmass.in/hamburg/2011-10-28
END:VEVENT
END:VCALENDAR
