BEGIN:VCALENDAR
VERSION:2.0
PRODID:-//Sabre//Sabre VObject 4.5.8//EN
CALSCALE:GREGORIAN
BEGIN:VEVENT
UID:criticalmass-one-halle-1664008200
DTSTAMP:20260421T033317Z
SUMMARY:Kidical Mass Halle 24.09.2022
DTSTART;TZID=Europe/Berlin:20220924T103000
DTEND;TZID=Europe/Berlin:20220924T123000
LOCATION:Universitätsring
GEO:51.487402;11.966353
URL;VALUE=URI:https://criticalmass.in/halle/kidical-mass-halle-september-20
 22
END:VEVENT
END:VCALENDAR
