BEGIN:VCALENDAR
VERSION:2.0
PRODID:-//Sabre//Sabre VObject 4.5.8//EN
CALSCALE:GREGORIAN
BEGIN:VEVENT
UID:criticalmass-one-halle-1632322800
DTSTAMP:20260421T064444Z
SUMMARY:Kidical Mass Halle 22.09.2021
DTSTART;TZID=Europe/Berlin:20210922T170000
DTEND;TZID=Europe/Berlin:20210922T190000
LOCATION:August-Bebel-Platz
GEO:51.491638;11.969088
URL;VALUE=URI:https://criticalmass.in/halle/kidical-mass-halle-september-20
 21
END:VEVENT
END:VCALENDAR
