BEGIN:VCALENDAR
VERSION:2.0
PRODID:-//Sabre//Sabre VObject 4.5.8//EN
CALSCALE:GREGORIAN
BEGIN:VEVENT
UID:criticalmass-one-halle-1758979800
DTSTAMP:20260421T053748Z
SUMMARY:Kidical Mass Halle (Saale) 27.09.2025
DTSTART;TZID=Europe/Berlin:20250927T153000
DTEND;TZID=Europe/Berlin:20250927T173000
LOCATION:Halle (Saale) Bauspielplatz Freiimfelde\, Landsberger Str. 29
GEO:51.483259;11.992889
URL;VALUE=URI:https://criticalmass.in/halle/kidical-mass-halle-saale-septem
 ber-2025
END:VEVENT
END:VCALENDAR
