BEGIN:VCALENDAR
VERSION:2.0
PRODID:-//Sabre//Sabre VObject 4.5.8//EN
CALSCALE:GREGORIAN
BEGIN:VEVENT
UID:criticalmass-one-halle-1634137200
DTSTAMP:20260421T020936Z
SUMMARY:Kidical Mass Halle Oktober 2021
DTSTART;TZID=Europe/Berlin:20211013T170000
DTEND;TZID=Europe/Berlin:20211013T190000
LOCATION:August-Bebel-Platz
GEO:51.491538;11.968918
URL;VALUE=URI:https://criticalmass.in/halle/kidical-mass-halle-oktober-2021
END:VEVENT
END:VCALENDAR
